BEGIN:VCALENDAR
VERSION:2.0
PRODID:-//ChamberMaster//Event Calendar 2.0//EN
METHOD:PUBLISH
X-PUBLISHED-TTL:P1H
REFRESH-INTERVAL:P1H
CALSCALE:GREGORIAN
BEGIN:VTIMEZONE
TZID:America/New_York
BEGIN:DAYLIGHT
RRULE:FREQ=YEARLY;BYMONTH=3;BYDAY=2SU
DTSTART:20070101T000000
TZOFFSETFROM:-0500
TZOFFSETTO:-0400
TZNAME:Eastern Daylight Time
END:DAYLIGHT
BEGIN:STANDARD
RRULE:FREQ=YEARLY;BYMONTH=11;BYDAY=1SU
DTSTART:20070101T000000
TZOFFSETFROM:-0400
TZOFFSETTO:-0500
TZNAME:Eastern Standard Time
END:STANDARD
END:VTIMEZONE
BEGIN:VEVENT
DTSTART;TZID=America/New_York:20260527T090000
DTEND;TZID=America/New_York:20260527T140000
X-MICROSOFT-CDO-ALLDAYEVENT:FALSE
SUMMARY:Education - CE Elective Credits
DESCRIPTION:4 hours Elective CE Credits
X-ALT-DESC;FMTTYPE=text/html:4 hours Elective CE Credits
LOCATION:6814 Teagle Lane Gloucester VA 23061
UID:e.2607.1442989
SEQUENCE:3
DTSTAMP:20260425T121937Z
URL:https://members.cbrar.com/event-calendar/Details/education-ce-elective-credits-1709087?sourceTypeId=Hub
END:VEVENT
END:VCALENDAR
